BEGIN:VCALENDAR
VERSION:2.0
PRODID:-//ExpressionEngine Easy iCalendar plugin//NONSGML v2.0.0//EN
X-WR-TIMEZONE:America/New_York
X-WR-CALNAME:Upcoming Auctions
BEGIN:VEVENT
UID:46880
DTSTAMP:20200211T100000
DTSTART:20200211T100000
DTEND:20200225T180000
SUMMARY:Advertising\, Petroliana\, Antiques\, and More
LOCATION:4141 South Main Street\, Moultrie\, GA 31768\, US
DESCRIPTION:Browse and bid on another installment of petroliana\, quality
  signage\, antiques and more. Find treasures only available a
 t auction.
URL:https://wiregrassauctiongroup.bwwsstaging.com/auctions/detai
 l/advertising-petroliana-antiques-and-more-bw46880
SEQUENCE:1
END:VEVENT
END:VCALENDAR