BEGIN:VCALENDAR
VERSION:2.0
PRODID:-//ExpressionEngine Easy iCalendar plugin//NONSGML v2.0.0//EN
X-WR-TIMEZONE:America/New_York
X-WR-CALNAME:Upcoming Auctions
BEGIN:VEVENT
UID:101919
DTSTAMP:20230613T100000
DTSTART:20230613T100000
DTEND:20230627T160000
SUMMARY:The Kuipers Estate and Other Quality Consignments
LOCATION:730 Summer Hill Rd\, Thomasville\, GA 31792\, US
DESCRIPTION:Join us for an exciting opportunity to bid on a wide array o
 f high-quality furnishings and items from the Kuipers Estate
  and other consignors. This online auction showcases a remar
 kable collection of items\, including quality furnishings\, fa
 rm equipment\, vehicles\, Christmas displays\, and more. Browse
  and bid today.
URL:https://wiregrassauctiongroup.bwwsstaging.com/auctions/detai
 l/bw101919
SEQUENCE:1
END:VEVENT
END:VCALENDAR