BEGIN:VCALENDAR
VERSION:2.0
PRODID:-//ExpressionEngine Easy iCalendar plugin//NONSGML v2.0.0//EN
X-WR-TIMEZONE:America/New_York
X-WR-CALNAME:Upcoming Auctions
BEGIN:VEVENT
UID:105419
DTSTAMP:20230809T100000
DTSTART:20230809T100000
DTEND:20230831T160000
SUMMARY:August Auction Palooza
LOCATION:13035 US Hwy 319 N\, Thomasville\, GA 31757\, US
DESCRIPTION:Get ready for a unique online auction at our new Thomasville
  Gallery. We're bringing you a fantastic selection of top-no
 tch furniture that will transform your space. And if you're 
 into collecting cool stuff\, you're in for a treat – we've 
 got some seriously unusual collectibles that will jazz up yo
 ur collection. Don't miss out on this chance to snag some aw
 esome pieces for your home or collection. Save the date and 
 get ready to bid!
URL:https://wiregrassauctiongroup.bwwsstaging.com/auctions/detai
 l/bw105419
SEQUENCE:1
END:VEVENT
END:VCALENDAR