BEGIN:VCALENDAR
VERSION:2.0
PRODID:-//ExpressionEngine Easy iCalendar plugin//NONSGML v2.0.0//EN
X-WR-TIMEZONE:America/New_York
X-WR-CALNAME:Upcoming Auctions
BEGIN:VEVENT
UID:56131
DTSTAMP:20201029T120000
DTSTART:20201029T120000
DTEND:20201116T180000
SUMMARY:November 2020 Combined Estate Auction
LOCATION:1050 N. Main Street\, Moultrie\, GA 31768\, US
DESCRIPTION:Bid on hundreds of quality items for all types of collectors
 . This auction features coins\, signage\, pottery\, and numerou
 s other antiques and collectibles.
URL:https://wiregrassauctiongroup.bwwsstaging.com/auctions/detai
 l/bw56131
SEQUENCE:1
END:VEVENT
END:VCALENDAR