BEGIN:VCALENDAR
VERSION:2.0
PRODID:-//ExpressionEngine Easy iCalendar plugin//NONSGML v2.0.0//EN
X-WR-TIMEZONE:America/New_York
X-WR-CALNAME:Upcoming Auctions
BEGIN:VEVENT
UID:57347
DTSTAMP:20201202T100000
DTSTART:20201202T100000
DTEND:20201216T160000
SUMMARY:The Estate of LC Eidson
LOCATION:220 McRee Drive\, Camilla\, GA 31730\, US
DESCRIPTION:The estate of L C Eidson is being sold at Auction. Two Vehic
 les\, a Tractor\, and a large selection of tools\, equipment\, a
 nd appliances are being sold to the highest bidder. This is 
 your chance to own hundreds of quality pre-owned items are a
  price YOU determine.
URL:https://wiregrassauctiongroup.bwwsstaging.com/auctions/detai
 l/bw57347
SEQUENCE:1
END:VEVENT
END:VCALENDAR