BEGIN:VCALENDAR
VERSION:2.0
PRODID:-//ExpressionEngine Easy iCalendar plugin//NONSGML v2.0.0//EN
X-WR-TIMEZONE:America/New_York
X-WR-CALNAME:Upcoming Auctions
BEGIN:VEVENT
UID:60155
DTSTAMP:20210217T100000
DTSTART:20210217T100000
DTEND:20210303T140000
SUMMARY:Complete GSI Grainery System
LOCATION:180 Laramore Road\, Leesburg\, GA 31763\, US
DESCRIPTION:Weeks Auction Group is excited to announce the Online Auctio
 n of a complete Grainery System located in Leesburg\, GA. Thi
 s GSI Grainery will need to be moved to it’s new home and 
 seller will allow sufficient time for this process. The two 
 storage bins have a total of 50\,000+/- BU capacity. With 900
 +/- BU per hour this would make a great addition to a large 
 farming operation. Register to bid today!
URL:https://wiregrassauctiongroup.bwwsstaging.com/auctions/detai
 l/bw60155
SEQUENCE:1
END:VEVENT
END:VCALENDAR