BEGIN:VCALENDAR
VERSION:2.0
PRODID:-//ExpressionEngine Easy iCalendar plugin//NONSGML v2.0.0//EN
X-WR-TIMEZONE:America/New_York
X-WR-CALNAME:Upcoming Auctions
BEGIN:VEVENT
UID:61389
DTSTAMP:20210422T100000
DTSTART:20210422T100000
DTEND:20210506T140000
SUMMARY:Wells Grain and Peanut Equipment
LOCATION:603 Broad Street\, Ellaville\, GA 31806\, US
DESCRIPTION:This is your chance to bid on a large selection of Drying Wa
 gons\, Tractors\, Fork Lifts\, Dryers and more. The equipment o
 f Wells Grain and Peanut Company is being offered at auction
  and can be bought for price YOU help determine.
URL:https://wiregrassauctiongroup.bwwsstaging.com/auctions/detai
 l/bw61389
SEQUENCE:1
END:VEVENT
END:VCALENDAR