BEGIN:VCALENDAR
VERSION:2.0
PRODID:-//ExpressionEngine Easy iCalendar plugin//NONSGML v2.0.0//EN
X-WR-TIMEZONE:America/New_York
X-WR-CALNAME:Upcoming Auctions
BEGIN:VEVENT
UID:63782
DTSTAMP:20210601T090100
DTSTART:20210601T090100
DTEND:20210615T160000
SUMMARY:The Living Estate of Clyde Harrell
LOCATION:115 Ruth Street\, Moultrie\, GA 31768\, US
DESCRIPTION:YOU name the price on Furniture\, Power Tools\, Appliances\, Fr
 amed Art and More. Excellent estate items\, you will only fin
 d at auction are available at Prices YOU determine.
URL:https://wiregrassauctiongroup.bwwsstaging.com/auctions/detai
 l/bw63782
SEQUENCE:1
END:VEVENT
END:VCALENDAR