BEGIN:VCALENDAR
VERSION:2.0
PRODID:-//ExpressionEngine Easy iCalendar plugin//NONSGML v2.0.0//EN
X-WR-TIMEZONE:America/New_York
X-WR-CALNAME:Upcoming Auctions
BEGIN:VEVENT
UID:64462
DTSTAMP:20210614T100000
DTSTART:20210614T100000
DTEND:20210628T160000
SUMMARY:Super Sizzling Summertime Auction Day 1
LOCATION:1881 Sylvester Hwy\, Moultrie\, GA 31768\, US
DESCRIPTION:Help cure your summertime blues with this red-hot summer auc
 tion. Browse and bid on this excellent collection of items y
 ou won't find anywhere else.
URL:https://wiregrassauctiongroup.bwwsstaging.com/auctions/detai
 l/bw64462
SEQUENCE:1
END:VEVENT
END:VCALENDAR