BEGIN:VCALENDAR
VERSION:2.0
PRODID:-//ExpressionEngine Easy iCalendar plugin//NONSGML v2.0.0//EN
X-WR-TIMEZONE:America/New_York
X-WR-CALNAME:Upcoming Auctions
BEGIN:VEVENT
UID:64790
DTSTAMP:20210608T100000
DTSTART:20210608T100000
DTEND:20210622T090000
SUMMARY:Retirement Auction - Andrew Tent Company Day 5
LOCATION:811 S. Westover Blvd\, Albany\, GA 31707\, US
DESCRIPTION:Day 5 of this HUGE multi-day auction. After 50 years in the 
 Tent Rental and Party Event business Ken Andrew has decided 
 to retire and Auction his massive inventory. This Auction wi
 ll be a Huge Auction conducted over multiple days and will f
 eature Numerous Tents and components\, AC and Cooling Units\, 
 Linens\, Staging\, Chairs\, Tables and much more to name. If yo
 u are looking to expand your rental operation this is excell
 ent opportunity. With short supply and event rental demand o
 n the rise\, this is an excellent opportunity to buy at price
 s YOU determine.
URL:https://wiregrassauctiongroup.bwwsstaging.com/auctions/detai
 l/bw64790
SEQUENCE:1
END:VEVENT
END:VCALENDAR