BEGIN:VCALENDAR
VERSION:2.0
PRODID:-//ExpressionEngine Easy iCalendar plugin//NONSGML v2.0.0//EN
X-WR-TIMEZONE:America/New_York
X-WR-CALNAME:Upcoming Auctions
BEGIN:VEVENT
UID:73292
DTSTAMP:20211208T100000
DTSTART:20211208T100000
DTEND:20211221T120000
SUMMARY:Cargo and Delivery Van Liquidation Auction
LOCATION:1130 Ada St.\, Blue Ridge\, GA 30513\, US
DESCRIPTION:Week’s Auction Group is liquidating various styles of Carg
 o Vans\, Step Vans\, and Express Vans in beautiful Blue Ridge 
 Georgia! Some of these vehicles run and are ready for its ne
 xt adventure\, while the others can be used for parts. Go Bid
  Now!
URL:https://wiregrassauctiongroup.bwwsstaging.com/auctions/detai
 l/bw73292
SEQUENCE:1
END:VEVENT
END:VCALENDAR