BEGIN:VCALENDAR
VERSION:2.0
PRODID:-//ExpressionEngine Easy iCalendar plugin//NONSGML v2.0.0//EN
X-WR-TIMEZONE:America/New_York
X-WR-CALNAME:Upcoming Auctions
BEGIN:VEVENT
UID:74717
DTSTAMP:20220114T100000
DTSTART:20220114T100000
DTEND:20220126T140000
SUMMARY:New Year\, New You! Commercial Fitness Equipment
LOCATION:101 E Screven St\, Quitman\, GA 31643\, US
DESCRIPTION:Start your new year’s resolution off right with a chance t
 o own your very own professional gym equipment. This auction
  is full of commercial grade equipment from weight machines 
 to cardio. Don’t let this year be another year of failed r
 esolutions stick to it with some of the great equipment from
  this auction.
URL:https://wiregrassauctiongroup.bwwsstaging.com/auctions/detai
 l/bw74717
SEQUENCE:1
END:VEVENT
END:VCALENDAR