BEGIN:VCALENDAR
VERSION:2.0
PRODID:-//ExpressionEngine Easy iCalendar plugin//NONSGML v2.0.0//EN
X-WR-TIMEZONE:America/New_York
X-WR-CALNAME:Upcoming Auctions
BEGIN:VEVENT
UID:89776
DTSTAMP:20221011T120000
DTSTART:20221011T120000
DTEND:20221025T160000
SUMMARY:Pedal Cars\, Signs\, Antiques\, and Collectibles
LOCATION:2186 Sylvester Hwy.\, Moultrie\, GA 31768\, US
DESCRIPTION:Take a trip through time with this auction full of collectib
 les and antiques. Featuring Native American Artifacts\, Coins
 \, Pedal Cars\, Porcelain Signs and more this auction is sure 
 to have something to attract collectors. Bid on hundreds of 
 items including signatures from Frank Sinatra and other 1950
 's Entertainers\, Stock Certificates\, a Pin Ball Machine and 
 More!
URL:https://wiregrassauctiongroup.bwwsstaging.com/auctions/detai
 l/bw89776
SEQUENCE:1
END:VEVENT
END:VCALENDAR