BEGIN:VCALENDAR
VERSION:2.0
PRODID:-//ExpressionEngine Easy iCalendar plugin//NONSGML v2.0.0//EN
X-WR-TIMEZONE:America/New_York
X-WR-CALNAME:Upcoming Auctions
BEGIN:VEVENT
UID:95225
DTSTAMP:20230128T170000
DTSTART:20230128T170000
DTEND:20230128T201500
SUMMARY:2023 Georgia Quail Invitational
LOCATION:1500 Dawson Rd\, Albany\, GA 31707\, US
DESCRIPTION:Bid on the silent auction items offered at the Saturday nigh
 t banquet of the Georgia Quail Invitational. Support your Qu
 ail Forever Chapter and take home great items!
URL:https://wiregrassauctiongroup.bwwsstaging.com/auctions/detai
 l/bw95225
SEQUENCE:1
END:VEVENT
END:VCALENDAR