BEGIN:VCALENDAR
VERSION:2.0
PRODID:-//ExpressionEngine Easy iCalendar plugin//NONSGML v2.0.0//EN
X-WR-TIMEZONE:America/New_York
X-WR-CALNAME:Upcoming Auctions
BEGIN:VEVENT
UID:49360
DTSTAMP:20210723T183000
DTSTART:20210723T183000
DTEND:20210723T193000
SUMMARY:Elegant Southern Home in Colquitt County
LOCATION:668 Mill Pond Road\, Moultrie\, GA 31768\, US
DESCRIPTION:244.44 Acre Executive Estate! AN OUTDOOR LOVERS DREAM! From 
 the 4\,299 +/- Sq. Ft modern home that epitomizes Southern El
 egance and Charm\, enjoy the breath-taking view of the 22-acr
 e lake and countryside\, while only 6 +/- miles from downtown
  Moultrie. With rolling terrain\, a lake\, two smaller ponds\, 
 and 70+ acres of mature pine timber\, the views this tract pr
 ovides are truly unmatched. This property also features a 12
 48 Sq. Ft guest home! Perfect mother in law suite! Also\, the
 re is a 20\,644 Sq. Ft Mechanics shop that is state of the ar
 t\; Plenty of room for any sized project. This is the ULTIMAT
 E GENTLEMAN's FARM! From horseback and ATV riding to hunting
  and fishing or watching the sunset from your own private 10
 2’ fire tower\, this property affords the outdoor enthusias
 t endless opportunities! Perfect for entertaining friends an
 d family or enjoying some quiet time in the great outdoors\, 
 call us today to schedule a visit to this once in a lifetime
  opportunity! Offered divided or as a whole!
URL:https://wiregrassauctiongroup.bwwsstaging.com/auctions/detai
 l/elegant-southern-home-in-colquitt-county-bw49360
SEQUENCE:1
END:VEVENT
END:VCALENDAR