BEGIN:VCALENDAR
VERSION:2.0
PRODID:-//ExpressionEngine Easy iCalendar plugin//NONSGML v2.0.0//EN
X-WR-TIMEZONE:America/New_York
X-WR-CALNAME:Upcoming Auctions
BEGIN:VEVENT
UID:45332
DTSTAMP:20200121T100000
DTSTART:20200121T100000
DTEND:20200204T180000
SUMMARY:Hotwheels\, Johnny Lightning\, Toys\, and More
LOCATION:2186 Sylvester Hwy #1\, Moultrie\, GA 31778\, US
DESCRIPTION:Thousands of die-cast cars\, toys and more! Treasure hunts an
 d other vintage hot-wheel cars can be yours at prices YOU de
 termine. Browse and bid today!
URL:https://wiregrassauctiongroup.bwwsstaging.com/auctions/detai
 l/hotwheels-johnny-lightning-toys-and-more-bw45332
SEQUENCE:1
END:VEVENT
END:VCALENDAR