BEGIN:VCALENDAR
VERSION:2.0
PRODID:-//ExpressionEngine Easy iCalendar plugin//NONSGML v2.0.0//EN
X-WR-TIMEZONE:America/New_York
X-WR-CALNAME:Upcoming Auctions
BEGIN:VEVENT
UID:43802
DTSTAMP:20191029T100000
DTSTART:20191029T100000
DTEND:20191112T180000
SUMMARY:Manufacturing Equipment Liquidation
LOCATION:2101 Industrial Park Drive\, Cairo\, GA 39828\, US
DESCRIPTION:Industrial CNC and CMM Equipment\, Heavy Machinery\, Raw Mater
 ial\, Tools and More can all be yours at auction prices YOU h
 elp determine. Browse and bid on all this great equipment lo
 cated in Cairo\, Georgia
URL:https://wiregrassauctiongroup.bwwsstaging.com/auctions/detai
 l/liquidation-of-patriot-manufacturing-bw43802
SEQUENCE:1
END:VEVENT
END:VCALENDAR