BEGIN:VCALENDAR
VERSION:2.0
PRODID:-//ExpressionEngine Easy iCalendar plugin//NONSGML v2.0.0//EN
X-WR-TIMEZONE:America/New_York
X-WR-CALNAME:Upcoming Auctions
BEGIN:VEVENT
UID:44708
DTSTAMP:20191125T150000
DTSTART:20191125T150000
DTEND:20191217T180000
SUMMARY:Tactical and Collectible Firearms and More!
LOCATION:2186 Sylvester Hwy #1\, Moultrie\, GA 31778\, US
DESCRIPTION:The two biggest seasons of the year are here: Hunting Season
  and Holiday Season. Two great reasons to purchase a firearm
  at a price you set. Skip the lines this season and bid from
  the comfort of your home. Browse and bid on quality firearm
 s and ammo including Steyr Rifles\, 1930 Belgian made Brownin
 g 16 Gauge\, Kel-tech\, Benelli\, Sig Sauer\, Smith and Wesson a
 nd much more. This auction has something for all firearm col
 lectors.
URL:https://wiregrassauctiongroup.bwwsstaging.com/auctions/detai
 l/tactical-and-collectible-firearms-and-more-bw44708
SEQUENCE:1
END:VEVENT
END:VCALENDAR